BEGIN:VCALENDAR
VERSION:2.0
PRODID:-//Squarespace Inc/Squarespace 6//v6//EN
BEGIN:VEVENT
UID:5df80cc53e9c833efc15de11@squarespace.com
DTSTAMP:20191216T231250Z
DTSTART:20200109T010000Z
DTEND:20200109T043000Z
SUMMARY:OPEN MIC NIGHT WITH BOAZ ANEMA
END:VEVENT
END:VCALENDAR
