BEGIN:VCALENDAR
VERSION:2.0
PRODID:-//Squarespace Inc/Squarespace 6//v6//EN
BEGIN:VEVENT
UID:5df80b216eabde6fa227b19e@squarespace.com
DTSTAMP:20191216T225909Z
DTSTART:20200111T223000Z
DTEND:20200112T003000Z
SUMMARY:The Local Spot
END:VEVENT
END:VCALENDAR
