BEGIN:VCALENDAR
VERSION:2.0
PRODID:-//Squarespace Inc/Squarespace 6//v6//EN
BEGIN:VEVENT
UID:5df7fb7bd5e93c008ff4f933@squarespace.com
DTSTAMP:20191216T215806Z
DTSTART:20200112T010000Z
DTEND:20200112T030000Z
SUMMARY:Kate Owen 'Lullaby Tour'
END:VEVENT
END:VCALENDAR
