BEGIN:VCALENDAR
VERSION:2.0
PRODID:-//Squarespace Inc/Squarespace 6//v6//EN
BEGIN:VEVENT
UID:5df80957e105606755e916c4@squarespace.com
DTSTAMP:20191216T225302Z
DTSTART:20200110T223000Z
DTEND:20200111T003000Z
SUMMARY:The Local Spot
END:VEVENT
END:VCALENDAR
