BEGIN:VCALENDAR
VERSION:2.0
PRODID:-//Squarespace Inc/Squarespace 6//v6//EN
BEGIN:VEVENT
UID:5df7ffb1e7ba675fedcb84d6@squarespace.com
DTSTAMP:20191216T221155Z
DTSTART:20200111T010000Z
DTEND:20200111T030000Z
SUMMARY:Alas it's Baser and Allen - with Rosa Black
END:VEVENT
END:VCALENDAR
