BEGIN:VCALENDAR
VERSION:2.0
PRODID:-//Squarespace Inc/Squarespace 6//v6//EN
BEGIN:VEVENT
UID:5de6d4280ae4d9329c6fd397@squarespace.com
DTSTAMP:20191216T231448Z
DTSTART:20191222T010000Z
DTEND:20191222T045900Z
SUMMARY:Ha the Unclear
END:VEVENT
END:VCALENDAR
