BEGIN:VCALENDAR
VERSION:2.0
PRODID:-//Squarespace Inc/Squarespace 6//v6//EN
BEGIN:VEVENT
UID:5df6a3811bd90e41f94f883c@squarespace.com
DTSTAMP:20191216T214353Z
DTSTART:20191221T013000Z
DTEND:20191221T045900Z
SUMMARY:Wet Specimen &amp\; Denudes
END:VEVENT
END:VCALENDAR
