BEGIN:VCALENDAR
VERSION:2.0
PRODID:-//Squarespace Inc/Squarespace 6//v6//EN
BEGIN:VEVENT
UID:5bf1f2ce70a6ad8a5c8c50b5@squarespace.com
DTSTAMP:20181118T231741Z
DTSTART:20181209T010000Z
DTEND:20181209T040000Z
SUMMARY:Songs for a Summer Night -  Paul Allen\, Darryl Baser and Bronwyn. 
 Free Entry
END:VEVENT
END:VCALENDAR
