BEGIN:VCALENDAR
VERSION:2.0
PRODID:-//Squarespace Inc/Squarespace 6//v6//EN
BEGIN:VEVENT
UID:5bf1f467c2241b40fbfeebda@squarespace.com
DTSTAMP:20181118T232413Z
DTSTART:20181216T010000Z
DTEND:20181216T040000Z
SUMMARY:Black Boy Peaches - Free Entry
END:VEVENT
END:VCALENDAR
