BEGIN:VCALENDAR
VERSION:2.0
PRODID:-//Squarespace Inc/Squarespace 6//v6//EN
BEGIN:VEVENT
UID:5bf1f0f688251b677dfbeaa4@squarespace.com
DTSTAMP:20181118T231031Z
DTSTART:20181202T010000Z
DTEND:20181202T033000Z
SUMMARY:James Dignan and Whaea Soul - Free Entry
END:VEVENT
END:VCALENDAR
