BEGIN:VCALENDAR
VERSION:2.0
PRODID:-//Squarespace Inc/Squarespace 6//v6//EN
BEGIN:VEVENT
UID:5bff1d4b1ae6cff393cccda9@squarespace.com
DTSTAMP:20181128T225827Z
DTSTART:20181201T000000Z
DTEND:20181201T020000Z
SUMMARY:Bill Martin solo piano - Free Entry
END:VEVENT
END:VCALENDAR
