BEGIN:VCALENDAR
VERSION:2.0
PRODID:-//Squarespace Inc/Squarespace 6//v6//EN
BEGIN:VEVENT
UID:5bf1ef161ae6cf7a695b8cd7@squarespace.com
DTSTAMP:20181118T230147Z
DTSTART:20181125T010000Z
DTEND:20181125T040000Z
SUMMARY:Coast to Coast. A night of chill Hip Hop - Free Entry
END:VEVENT
END:VCALENDAR
