BEGIN:VCALENDAR
VERSION:2.0
PRODID:-//Squarespace Inc/Squarespace 6//v6//EN
BEGIN:VEVENT
UID:5bea0f5e4fa51a3408e0eb5d@squarespace.com
DTSTAMP:20181115T233805Z
DTSTART:20181124T010000Z
DTEND:20181124T040000Z
SUMMARY:The Frank Burkitt Band with Kara Filbey and guests - Koha Entry
END:VEVENT
END:VCALENDAR
