BEGIN:VCALENDAR
VERSION:2.0
PRODID:-//Squarespace Inc/Squarespace 6//v6//EN
BEGIN:VEVENT
UID:5bd0f98beef1a18f8a4ddfec@squarespace.com
DTSTAMP:20181113T000219Z
DTSTART:20181118T010000Z
DTEND:20181118T040000Z
SUMMARY:Both Sides of The Line
END:VEVENT
END:VCALENDAR
