BEGIN:VCALENDAR
VERSION:2.0
PRODID:-//Squarespace Inc/Squarespace 6//v6//EN
BEGIN:VEVENT
UID:5bd0f962e2c4838729c205c9@squarespace.com
DTSTAMP:20181112T235958Z
DTSTART:20181117T010000Z
DTEND:20181117T040000Z
SUMMARY:Quick Wilde Duck - Free Entry
END:VEVENT
END:VCALENDAR
