BEGIN:VCALENDAR
VERSION:2.0
PRODID:-//Squarespace Inc/Squarespace 6//v6//EN
BEGIN:VEVENT
UID:5bd0f93224a69482aaa5fa57@squarespace.com
DTSTAMP:20181024T225931Z
DTSTART:20181111T010000Z
DTEND:20181111T040000Z
SUMMARY:Philip Flemming - Free Entry
END:VEVENT
END:VCALENDAR
