BEGIN:VCALENDAR
VERSION:2.0
PRODID:-//Squarespace Inc/Squarespace 6//v6//EN
BEGIN:VEVENT
UID:5bd0f8c7e79c70a498044d6e@squarespace.com
DTSTAMP:20181024T225841Z
DTSTART:20181110T010000Z
DTEND:20181110T040000Z
SUMMARY:Stevie Rice and band - Free Entry
END:VEVENT
END:VCALENDAR
