BEGIN:VCALENDAR
VERSION:2.0
PRODID:-//Squarespace Inc/Squarespace 6//v6//EN
BEGIN:VEVENT
UID:5a3ee7b99140b75e196a528c@squarespace.com
DTSTAMP:20171223T233342Z
DTSTART:20180110T010000Z
DTEND:20180110T040000Z
SUMMARY:They Were A Loner - Free Entry
END:VEVENT
END:VCALENDAR
