BEGIN:VCALENDAR
VERSION:2.0
PRODID:-//Squarespace Inc/Squarespace 6//v6//EN
BEGIN:VEVENT
UID:5a3ee6a39140b75e196a39f7@squarespace.com
DTSTAMP:20171223T232855Z
DTSTART:20180107T010000Z
DTEND:20180107T040000Z
SUMMARY:Bronwyn & Paul S Allen - Free Entry
END:VEVENT
END:VCALENDAR
