BEGIN:VCALENDAR
VERSION:2.0
PRODID:-//Squarespace Inc/Squarespace 6//v6//EN
BEGIN:VEVENT
UID:5a3ee5f28165f5d70b66a29a@squarespace.com
DTSTAMP:20171223T232635Z
DTSTART:20180105T130000Z
DTEND:20180106T040000Z
SUMMARY:Open for the New Year :)!!!
END:VEVENT
END:VCALENDAR
