BEGIN:VCALENDAR
VERSION:2.0
PRODID:-//Squarespace Inc/Squarespace 6//v6//EN
BEGIN:VEVENT
UID:5a45597e71c10b4101c284c2@squarespace.com
DTSTAMP:20180110T025717Z
DTSTART:20180121T010000Z
DTEND:20180121T040000Z
SUMMARY:Kill Martha\, Barney Connolly\, Spinster & Person Will - Free Entry
END:VEVENT
END:VCALENDAR
