BEGIN:VCALENDAR
VERSION:2.0
PRODID:-//Squarespace Inc/Squarespace 6//v6//EN
BEGIN:VEVENT
UID:5a45593b08522987cf89ede7@squarespace.com
DTSTAMP:20180108T212852Z
DTSTART:20180120T010000Z
DTEND:20180120T040000Z
SUMMARY:Jo Little & Jared Smith - Free Entry
END:VEVENT
END:VCALENDAR
