BEGIN:VCALENDAR
VERSION:2.0
PRODID:-//Squarespace Inc/Squarespace 6//v6//EN
BEGIN:VEVENT
UID:5a3ee977ec212d376f264f48@squarespace.com
DTSTAMP:20171223T234315Z
DTSTART:20180114T003000Z
DTEND:20180114T043000Z
SUMMARY:Blue Child Collective - $10 Tickets
END:VEVENT
END:VCALENDAR
