BEGIN:VCALENDAR
VERSION:2.0
PRODID:-//Squarespace Inc/Squarespace 6//v6//EN
BEGIN:VEVENT
UID:5a3ee89b652dea3131f25328@squarespace.com
DTSTAMP:20171223T233729Z
DTSTART:20180113T010000Z
DTEND:20180113T040000Z
SUMMARY:Richie Langford - Free Entry
END:VEVENT
END:VCALENDAR
