BEGIN:VCALENDAR
VERSION:2.0
PRODID:-//Squarespace Inc/Squarespace 6//v6//EN
BEGIN:VEVENT
UID:59b0dac42278e70e9fa6f816@squarespace.com
DTSTAMP:20170907T053711Z
DTSTART:20170910T000000Z
DTEND:20170910T030000Z
SUMMARY:Dr. Marigaux & Highway 88 - Free Entry
END:VEVENT
END:VCALENDAR
