BEGIN:VCALENDAR
VERSION:2.0
PRODID:-//Squarespace Inc/Squarespace 6//v6//EN
BEGIN:VEVENT
UID:59b0da7ea803bb8658c332aa@squarespace.com
DTSTAMP:20170907T053700Z
DTSTART:20170909T000000Z
DTEND:20170909T030000Z
SUMMARY:New Zealand Young Writer's Festival Quiz - Free Entry
END:VEVENT
END:VCALENDAR
