BEGIN:VCALENDAR
VERSION:2.0
PRODID:-//Squarespace Inc/Squarespace 6//v6//EN
BEGIN:VEVENT
UID:59b0da6112abd93c94c669ba@squarespace.com
DTSTAMP:20170907T053645Z
DTSTART:20170908T230000Z
DTEND:20170909T000000Z
SUMMARY:New Adventures In Performance Poetry - Free Entry
END:VEVENT
END:VCALENDAR
