BEGIN:VCALENDAR
VERSION:2.0
PRODID:-//Squarespace Inc/Squarespace 6//v6//EN
BEGIN:VEVENT
UID:59b3285bd2b85729bba9f6f6@squarespace.com
DTSTAMP:20170908T233233Z
DTSTART:20171001T000000Z
DTEND:20171001T030000Z
SUMMARY:Spinster - Free Entry
END:VEVENT
END:VCALENDAR
