BEGIN:VCALENDAR
VERSION:2.0
PRODID:-//Squarespace Inc/Squarespace 6//v6//EN
BEGIN:VEVENT
UID:59b3278bbce17645d63ddefc@squarespace.com
DTSTAMP:20170929T022420Z
DTSTART:20170930T000000Z
DTEND:20170930T040000Z
SUMMARY:Jo Little & Jared Smith\, Hana Fahy & The BBC\, Ultramafic - Free E
 ntry
END:VEVENT
END:VCALENDAR
