BEGIN:VCALENDAR
VERSION:2.0
PRODID:-//Squarespace Inc/Squarespace 6//v6//EN
BEGIN:VEVENT
UID:59b32712e45a7cdb51875d04@squarespace.com
DTSTAMP:20170908T233114Z
DTSTART:20170924T000000Z
DTEND:20170924T030000Z
SUMMARY:Ben Salter - Free Entry
END:VEVENT
END:VCALENDAR
