BEGIN:VCALENDAR
VERSION:2.0
PRODID:-//Squarespace Inc/Squarespace 6//v6//EN
BEGIN:VEVENT
UID:59b326b3cf81e01662060cb5@squarespace.com
DTSTAMP:20170912T093736Z
DTSTART:20170923T000000Z
DTEND:20170923T030000Z
SUMMARY:Nick Cave 60th Birthday Tribute Gig - Free Entry
END:VEVENT
END:VCALENDAR
