BEGIN:VCALENDAR
VERSION:2.0
PRODID:-//Squarespace Inc/Squarespace 6//v6//EN
BEGIN:VEVENT
UID:597942f9f9a61ea5932b8018@squarespace.com
DTSTAMP:20170727T013403Z
DTSTART:20170903T000000Z
DTEND:20170903T030000Z
SUMMARY:Matt Langley
END:VEVENT
END:VCALENDAR
