BEGIN:VCALENDAR
VERSION:2.0
PRODID:-//Squarespace Inc/Squarespace 6//v6//EN
BEGIN:VEVENT
UID:59b0dc5cb07869a1beacc9ab@squarespace.com
DTSTAMP:20170907T054339Z
DTSTART:20170917T010000Z
DTEND:20170917T033000Z
SUMMARY:Herriot Row $10 Entry
END:VEVENT
END:VCALENDAR
