BEGIN:VCALENDAR
VERSION:2.0
PRODID:-//Squarespace Inc/Squarespace 6//v6//EN
BEGIN:VEVENT
UID:59b0dc26f43b55e92c28766b@squarespace.com
DTSTAMP:20170907T054232Z
DTSTART:20170916T000000Z
DTEND:20170916T030000Z
SUMMARY:Rollercoaster & King Leo - Free Entry
END:VEVENT
END:VCALENDAR
