BEGIN:VCALENDAR
VERSION:2.0
PRODID:-//Squarespace Inc/Squarespace 6//v6//EN
BEGIN:VEVENT
UID:59b0dbd149fc2b0ce553e61a@squarespace.com
DTSTAMP:20170907T054103Z
DTSTART:20170914T000000Z
DTEND:20170914T010000Z
SUMMARY:CALL ME EARLY - Poetry Reading - Free Entry
END:VEVENT
END:VCALENDAR
