BEGIN:VCALENDAR
VERSION:2.0
PRODID:-//Squarespace Inc/Squarespace 6//v6//EN
BEGIN:VEVENT
UID:597942d3cd39c375003a2e9f@squarespace.com
DTSTAMP:20170727T013331Z
DTSTART:20170902T000000Z
DTEND:20170902T030000Z
SUMMARY:Mamazita - Free Entry
END:VEVENT
END:VCALENDAR
