BEGIN:VCALENDAR
VERSION:2.0
PRODID:-//Squarespace Inc/Squarespace 6//v6//EN
BEGIN:VEVENT
UID:5959718b72af65ccd19f462a@squarespace.com
DTSTAMP:20171223T233423Z
DTSTART:20180111T010000Z
DTEND:20180111T040000Z
SUMMARY:Open Mic Night with Jared Smith - Free Entry
END:VEVENT
END:VCALENDAR
