BEGIN:VCALENDAR
VERSION:2.0
PRODID:-//Squarespace Inc/Squarespace 6//v6//EN
BEGIN:VEVENT
UID:5bd0fa35f9619a5696515ad5@squarespace.com
DTSTAMP:20181024T230334Z
DTSTART:20181128T010000Z
DTEND:20181128T040000Z
SUMMARY:Quiz Night hosted by Jamie Green - Free Entry
END:VEVENT
END:VCALENDAR
