BEGIN:VCALENDAR
VERSION:2.0
PRODID:-//Squarespace Inc/Squarespace 6//v6//EN
BEGIN:VEVENT
UID:5bf1f55c70a6ad8a5c8c6bd5@squarespace.com
DTSTAMP:20181118T232740Z
DTSTART:20181205T010000Z
DTEND:20181205T040000Z
SUMMARY:Quiz Night hosted by Jamie Green - Free Entry
END:VEVENT
END:VCALENDAR
