BEGIN:VCALENDAR
VERSION:2.0
PRODID:-//Squarespace Inc/Squarespace 6//v6//EN
BEGIN:VEVENT
UID:5bf1f5774fa51adec130ab75@squarespace.com
DTSTAMP:20181118T232819Z
DTSTART:20181212T010000Z
DTEND:20181212T040000Z
SUMMARY:Quiz Night hosted by Jamie Green - Free Entry
END:VEVENT
END:VCALENDAR
