BEGIN:VCALENDAR
VERSION:2.0
PRODID:-//Squarespace Inc/Squarespace 6//v6//EN
BEGIN:VEVENT
UID:5bd0f9ff53450a4b295aab86@squarespace.com
DTSTAMP:20181024T230241Z
DTSTART:20181114T010000Z
DTEND:20181114T040000Z
SUMMARY:Quiz Night hosted by Jamie Green - Free Entry
END:VEVENT
END:VCALENDAR
