BEGIN:VCALENDAR
VERSION:2.0
PRODID:-//Squarespace Inc/Squarespace 6//v6//EN
BEGIN:VEVENT
UID:59558e086b4998bb820ab146@squarespace.com
DTSTAMP:20170629T233240Z
DTSTART:20170806T000000Z
DTEND:20170806T030000Z
SUMMARY:Nick Knox - Free Entry
END:VEVENT
END:VCALENDAR
