BEGIN:VCALENDAR
VERSION:2.0
PRODID:-//Squarespace Inc/Squarespace 6//v6//EN
BEGIN:VEVENT
UID:59558de420099e84796a4344@squarespace.com
DTSTAMP:20170629T233212Z
DTSTART:20170805T000000Z
DTEND:20170805T030000Z
SUMMARY:Matt Langley - Free Entry
END:VEVENT
END:VCALENDAR
