BEGIN:VCALENDAR
VERSION:2.0
PRODID:-//Squarespace Inc/Squarespace 6//v6//EN
BEGIN:VEVENT
UID:59792e06d7bdce97629744d7@squarespace.com
DTSTAMP:20170727T013037Z
DTSTART:20170826T000000Z
DTEND:20170826T030000Z
SUMMARY:Laney Blue - Free Entry
END:VEVENT
END:VCALENDAR
