BEGIN:VCALENDAR
VERSION:2.0
PRODID:-//Squarespace Inc/Squarespace 6//v6//EN
BEGIN:VEVENT
UID:5bd0fab41905f46dde519547@squarespace.com
DTSTAMP:20181024T230541Z
DTSTART:20181122T010000Z
DTEND:20181122T040000Z
SUMMARY:Octagon Poetry Collective - Free Entry
END:VEVENT
END:VCALENDAR
