BEGIN:VCALENDAR
VERSION:2.0
PRODID:-//Squarespace Inc/Squarespace 6//v6//EN
BEGIN:VEVENT
UID:5989104edb29d6b9e1214e4d@squarespace.com
DTSTAMP:20170809T031343Z
DTSTART:20170817T230000Z
DTEND:20170818T003000Z
SUMMARY:OUPS Presents: Poetry Evening at Dog with Two Tails
END:VEVENT
END:VCALENDAR
