BEGIN:VCALENDAR
VERSION:2.0
PRODID:-//Squarespace Inc/Squarespace 6//v6//EN
BEGIN:VEVENT
UID:59891136d2b857f1fa76e4bc@squarespace.com
DTSTAMP:20170808T011809Z
DTSTART:20170817T200000Z
DTEND:20170818T030000Z
SUMMARY:OUSA Gallery Crawl
END:VEVENT
END:VCALENDAR
