BEGIN:VCALENDAR
VERSION:2.0
PRODID:-//Squarespace Inc/Squarespace 6//v6//EN
BEGIN:VEVENT
UID:595972d586e6c0de95555d0a@squarespace.com
DTSTAMP:20171117T025033Z
DTSTART:20171114T010000Z
DTEND:20171114T040000Z
SUMMARY:Open Mic Night with Jared Smith - Free Entry
END:VEVENT
END:VCALENDAR
