BEGIN:VCALENDAR
VERSION:2.0
PRODID:-//Squarespace Inc/Squarespace 6//v6//EN
BEGIN:VEVENT
UID:595972673e00bea5c5043b41@squarespace.com
DTSTAMP:20170702T222356Z
DTSTART:20170813T000000Z
DTEND:20170813T030000Z
SUMMARY:Terry Ebling - Free Entry
END:VEVENT
END:VCALENDAR
