BEGIN:VCALENDAR
VERSION:2.0
PRODID:-//Squarespace Inc/Squarespace 6//v6//EN
BEGIN:VEVENT
UID:595972356b4998081b760f16@squarespace.com
DTSTAMP:20170805T235412Z
DTSTART:20170812T000000Z
DTEND:20170812T030000Z
SUMMARY:Spinster\, Whisky & The Wench\, - Free Entry
END:VEVENT
END:VCALENDAR
